BEGIN:VCALENDAR
VERSION:2.0
PRODID:-//Unternehmerinnennetzwerk Bad Homburg - ECPv6.15.20//NONSGML v1.0//EN
CALSCALE:GREGORIAN
METHOD:PUBLISH
X-WR-CALNAME:Unternehmerinnennetzwerk Bad Homburg
X-ORIGINAL-URL:https://www.unternehmerinnen-badhomburg.de
X-WR-CALDESC:Veranstaltungen für Unternehmerinnennetzwerk Bad Homburg
REFRESH-INTERVAL;VALUE=DURATION:PT1H
X-Robots-Tag:noindex
X-PUBLISHED-TTL:PT1H
BEGIN:VTIMEZONE
TZID:UTC
BEGIN:STANDARD
TZOFFSETFROM:+0000
TZOFFSETTO:+0000
TZNAME:UTC
DTSTART:20210101T000000
END:STANDARD
END:VTIMEZONE
BEGIN:VEVENT
DTSTART;TZID=UTC:20220714T200000
DTEND;TZID=UTC:20220714T230000
DTSTAMP:20260424T154321
CREATED:20211118T220524Z
LAST-MODIFIED:20211124T162428Z
UID:699-1657828800-1657839600@www.unternehmerinnen-badhomburg.de
SUMMARY:Stammtisch
DESCRIPTION:Kennenlernabend für Interessentinnen an unserem Netzwerk. Die Location wird rechtzeitig bekanntgegeben.
URL:https://www.unternehmerinnen-badhomburg.de/event/stammtisch-3
ATTACH;FMTTYPE=image/jpeg:https://www.unternehmerinnen-badhomburg.de/wp-content/uploads/2021/11/people-3308013__340-3.jpg
END:VEVENT
END:VCALENDAR