BEGIN:VCALENDAR
VERSION:2.0
PRODID:-//Unternehmerinnennetzwerk Bad Homburg - ECPv6.15.20//NONSGML v1.0//EN
CALSCALE:GREGORIAN
METHOD:PUBLISH
X-WR-CALNAME:Unternehmerinnennetzwerk Bad Homburg
X-ORIGINAL-URL:https://www.unternehmerinnen-badhomburg.de
X-WR-CALDESC:Veranstaltungen für Unternehmerinnennetzwerk Bad Homburg
REFRESH-INTERVAL;VALUE=DURATION:PT1H
X-Robots-Tag:noindex
X-PUBLISHED-TTL:PT1H
BEGIN:VTIMEZONE
TZID:UTC
BEGIN:STANDARD
TZOFFSETFROM:+0000
TZOFFSETTO:+0000
TZNAME:UTC
DTSTART:20210101T000000
END:STANDARD
END:VTIMEZONE
BEGIN:VEVENT
DTSTART;TZID=UTC:20221208T193000
DTEND;TZID=UTC:20221208T223000
DTSTAMP:20260422T151139
CREATED:20211118T221512Z
LAST-MODIFIED:20211124T162254Z
UID:712-1670527800-1670538600@www.unternehmerinnen-badhomburg.de
SUMMARY:Weihnachtsfeier
DESCRIPTION:Interne Veranstaltung
URL:https://www.unternehmerinnen-badhomburg.de/event/weihnachtsfeier-2
ATTACH;FMTTYPE=image/jpeg:https://www.unternehmerinnen-badhomburg.de/wp-content/uploads/2021/11/christmas-3032363_960_720-1.jpg
END:VEVENT
END:VCALENDAR