BEGIN:VCALENDAR
VERSION:2.0
PRODID:-//Unternehmerinnennetzwerk Bad Homburg - ECPv6.15.20//NONSGML v1.0//EN
CALSCALE:GREGORIAN
METHOD:PUBLISH
X-ORIGINAL-URL:https://www.unternehmerinnen-badhomburg.de
X-WR-CALDESC:Veranstaltungen für Unternehmerinnennetzwerk Bad Homburg
REFRESH-INTERVAL;VALUE=DURATION:PT1H
X-Robots-Tag:noindex
X-PUBLISHED-TTL:PT1H
BEGIN:VTIMEZONE
TZID:UTC
BEGIN:STANDARD
TZOFFSETFROM:+0000
TZOFFSETTO:+0000
TZNAME:UTC
DTSTART:20220101T000000
END:STANDARD
END:VTIMEZONE
BEGIN:VEVENT
DTSTART;TZID=UTC:20230511T193000
DTEND;TZID=UTC:20230511T213000
DTSTAMP:20260420T155021
CREATED:20230111T203828Z
LAST-MODIFIED:20230111T210710Z
UID:896-1683833400-1683840600@www.unternehmerinnen-badhomburg.de
SUMMARY:Internes Treffen
DESCRIPTION:Familienzentrum am Heuchelbach
URL:https://www.unternehmerinnen-badhomburg.de/event/internes-treffen-3
ATTACH;FMTTYPE=image/jpeg:https://www.unternehmerinnen-badhomburg.de/wp-content/uploads/2023/01/Internes-Treffen.jpg
END:VEVENT
END:VCALENDAR