BEGIN:VCALENDAR
VERSION:2.0
PRODID:-//Unternehmerinnennetzwerk Bad Homburg - ECPv6.15.20//NONSGML v1.0//EN
CALSCALE:GREGORIAN
METHOD:PUBLISH
X-ORIGINAL-URL:https://www.unternehmerinnen-badhomburg.de
X-WR-CALDESC:Veranstaltungen für Unternehmerinnennetzwerk Bad Homburg
REFRESH-INTERVAL;VALUE=DURATION:PT1H
X-Robots-Tag:noindex
X-PUBLISHED-TTL:PT1H
BEGIN:VTIMEZONE
TZID:UTC
BEGIN:STANDARD
TZOFFSETFROM:+0000
TZOFFSETTO:+0000
TZNAME:UTC
DTSTART:20210101T000000
END:STANDARD
END:VTIMEZONE
BEGIN:VEVENT
DTSTART;TZID=UTC:20220908T193000
DTEND;TZID=UTC:20220908T213000
DTSTAMP:20260424T105943
CREATED:20211118T220928Z
LAST-MODIFIED:20220907T203906Z
UID:705-1662665400-1662672600@www.unternehmerinnen-badhomburg.de
SUMMARY:Zeichnen und Sketchnotes im Business
DESCRIPTION:Öffentlicher Vortrag im Familienzentrum am Heuchelbach in Bad Homburg
URL:https://www.unternehmerinnen-badhomburg.de/event/vortrag-thema-folgt-3
ATTACH;FMTTYPE=image/png:https://www.unternehmerinnen-badhomburg.de/wp-content/uploads/2022/09/Sketchnotes-Workshop.png
END:VEVENT
END:VCALENDAR