BEGIN:VCALENDAR
VERSION:2.0
PRODID:-//Unternehmerinnennetzwerk Bad Homburg - ECPv6.15.20//NONSGML v1.0//EN
CALSCALE:GREGORIAN
METHOD:PUBLISH
X-ORIGINAL-URL:https://www.unternehmerinnen-badhomburg.de
X-WR-CALDESC:Veranstaltungen für Unternehmerinnennetzwerk Bad Homburg
REFRESH-INTERVAL;VALUE=DURATION:PT1H
X-Robots-Tag:noindex
X-PUBLISHED-TTL:PT1H
BEGIN:VTIMEZONE
TZID:UTC
BEGIN:STANDARD
TZOFFSETFROM:+0000
TZOFFSETTO:+0000
TZNAME:UTC
DTSTART:20210101T000000
END:STANDARD
END:VTIMEZONE
BEGIN:VEVENT
DTSTART;TZID=UTC:20221110T193000
DTEND;TZID=UTC:20221110T213000
DTSTAMP:20260422T151350
CREATED:20211118T221355Z
LAST-MODIFIED:20221027T094919Z
UID:710-1668108600-1668115800@www.unternehmerinnen-badhomburg.de
SUMMARY:Workshop Interkulturelle Kommunikation
DESCRIPTION:Öffentlicher Vortrag über Zoom.  \n\n\n\n\n\n\n\nIn unserer globalisierten Welt haben wir häufig mit Menschen aus anderen Kulturkreisen zu tun. Dabei kommt es oft zu interkulturellen Missverständnissen\, denen wir uns nicht gleich bewusst sind\, aber die sich negativ auf unsere beruflichen und privaten Beziehungen auswirken können. \n\n\n\nIn diesem interaktiven Workshop lernen wir die Besonderheiten der deutschen Kultur und ihre Wirkung auf Menschen aus anderen Kulturkreisen kennen. Wir beschäftigen uns mit häufigen\, interkulturellen Fettnäpfchen\, sogenannten “critical incidents” und lernen diese durch effektive Kommunikationsstrategien zu vermeiden. \n\n\n\nDie Workshopinhalte im Überblick: \n\n\n\n• Interkulturelle Unterschiede: Kulturstandards\, Werte und Normen\, kulturelle Besonderheiten• Reflektion der eigenen Kultur: nationale und persönliche Identität\, Fremd- und Selbstbild• Direkte und indirekte Kommunikation• Erfolgreiche Kommunikationsstrategien im Umgang mit anderen Kulturen• Frühwarnsysteme zur Prävention von interkulturellen Konflikten\n\n\n\nInteressentinnen melden sich bitte unter info@unternehmerinnen-badhomburg.de an\, um den Zoom-Link zu erhalten.
URL:https://www.unternehmerinnen-badhomburg.de/event/vortrag-thema-folgt-4
ATTACH;FMTTYPE=image/png:https://www.unternehmerinnen-badhomburg.de/wp-content/uploads/2022/09/community-150124__340.png
END:VEVENT
END:VCALENDAR