BEGIN:VCALENDAR
VERSION:2.0
PRODID:-//Unternehmerinnennetzwerk Bad Homburg - ECPv6.15.20//NONSGML v1.0//EN
CALSCALE:GREGORIAN
METHOD:PUBLISH
X-WR-CALNAME:Unternehmerinnennetzwerk Bad Homburg
X-ORIGINAL-URL:https://www.unternehmerinnen-badhomburg.de
X-WR-CALDESC:Veranstaltungen für Unternehmerinnennetzwerk Bad Homburg
REFRESH-INTERVAL;VALUE=DURATION:PT1H
X-Robots-Tag:noindex
X-PUBLISHED-TTL:PT1H
BEGIN:VTIMEZONE
TZID:UTC
BEGIN:STANDARD
TZOFFSETFROM:+0000
TZOFFSETTO:+0000
TZNAME:UTC
DTSTART:20220101T000000
END:STANDARD
END:VTIMEZONE
BEGIN:VEVENT
DTSTART;TZID=UTC:20230209T193000
DTEND;TZID=UTC:20230209T210000
DTSTAMP:20260422T101647
CREATED:20230111T200244Z
LAST-MODIFIED:20230131T130146Z
UID:877-1675971000-1675976400@www.unternehmerinnen-badhomburg.de
SUMMARY:Lokale Google-Sichtbarkeit! Der Google Business-Eintrag
DESCRIPTION:Referentin: Susanne Poberschin https://onlinewerkstatt.de/ueber-mich/ \n\n\n\nÜber Google können Informationen zur eigenen Firma/ Selbständigkeit verwaltet werden. Das Hinterlegen vom Firmennamen\, Fotos oder Kontaktinformationen sind nur einige Möglichkeiten. Diese Informationen können sowohl in Google Maps als auch der Google-Suche erscheinen und sind deshalb für lokale Unternehmen von großer Bedeutung. \n\n\n\nThemenübersicht: \n\n\n\n– Einblick in die lokale Suche \n\n\n\n– Optimierung des Profils \n\n\n\n– Interaktion & Statistik \n\n\n\nOrt: Online-Veranstaltung\, Zoom-Link wird nach Anmeldung zugeschickt \n\n\n\nTickets: 10 Euro (optionaler Beitrag in Form einer freiwilligen Spende an den Verein) \n\n\n\nUm Anmeldung unter info@unternehmerinnen-badhomburg.de wird gebeten.
URL:https://www.unternehmerinnen-badhomburg.de/event/lokale-google-sichtbarkeit-der-google-businesseintrag
ATTACH;FMTTYPE=image/png:https://www.unternehmerinnen-badhomburg.de/wp-content/uploads/2023/01/Google-Business.png
END:VEVENT
END:VCALENDAR