BEGIN:VCALENDAR
VERSION:2.0
PRODID:-//Unternehmerinnennetzwerk Bad Homburg - ECPv6.15.20//NONSGML v1.0//EN
CALSCALE:GREGORIAN
METHOD:PUBLISH
X-ORIGINAL-URL:https://www.unternehmerinnen-badhomburg.de
X-WR-CALDESC:Veranstaltungen für Unternehmerinnennetzwerk Bad Homburg
REFRESH-INTERVAL;VALUE=DURATION:PT1H
X-Robots-Tag:noindex
X-PUBLISHED-TTL:PT1H
BEGIN:VTIMEZONE
TZID:UTC
BEGIN:STANDARD
TZOFFSETFROM:+0000
TZOFFSETTO:+0000
TZNAME:UTC
DTSTART:20220101T000000
END:STANDARD
END:VTIMEZONE
BEGIN:VEVENT
DTSTART;TZID=UTC:20230309T193000
DTEND;TZID=UTC:20230309T213000
DTSTAMP:20260420T172824
CREATED:20230111T201633Z
LAST-MODIFIED:20230111T210737Z
UID:881-1678390200-1678397400@www.unternehmerinnen-badhomburg.de
SUMMARY:Mitgliederversammlung
DESCRIPTION:internes Treffen
URL:https://www.unternehmerinnen-badhomburg.de/event/mitgliederversammlung-2
END:VEVENT
END:VCALENDAR