BEGIN:VCALENDAR
VERSION:2.0
PRODID:-//Unternehmerinnennetzwerk Bad Homburg - ECPv6.15.20//NONSGML v1.0//EN
CALSCALE:GREGORIAN
METHOD:PUBLISH
X-WR-CALNAME:Unternehmerinnennetzwerk Bad Homburg
X-ORIGINAL-URL:https://www.unternehmerinnen-badhomburg.de
X-WR-CALDESC:Veranstaltungen für Unternehmerinnennetzwerk Bad Homburg
REFRESH-INTERVAL;VALUE=DURATION:PT1H
X-Robots-Tag:noindex
X-PUBLISHED-TTL:PT1H
BEGIN:VTIMEZONE
TZID:UTC
BEGIN:STANDARD
TZOFFSETFROM:+0000
TZOFFSETTO:+0000
TZNAME:UTC
DTSTART:20220101T000000
END:STANDARD
END:VTIMEZONE
BEGIN:VEVENT
DTSTART;TZID=UTC:20230413T193000
DTEND;TZID=UTC:20230413T213000
DTSTAMP:20260420T154855
CREATED:20230111T203155Z
LAST-MODIFIED:20230111T212335Z
UID:889-1681414200-1681421400@www.unternehmerinnen-badhomburg.de
SUMMARY:Stammtisch
DESCRIPTION:Location wird rechtzeitig bekannt gegeben.
URL:https://www.unternehmerinnen-badhomburg.de/event/stammtisch-5
ATTACH;FMTTYPE=image/png:https://www.unternehmerinnen-badhomburg.de/wp-content/uploads/2023/01/Mitgliederversammlung.png
END:VEVENT
END:VCALENDAR