BEGIN:VCALENDAR
VERSION:2.0
PRODID:-//Unternehmerinnennetzwerk Bad Homburg - ECPv6.15.20//NONSGML v1.0//EN
CALSCALE:GREGORIAN
METHOD:PUBLISH
X-WR-CALNAME:Unternehmerinnennetzwerk Bad Homburg
X-ORIGINAL-URL:https://www.unternehmerinnen-badhomburg.de
X-WR-CALDESC:Veranstaltungen für Unternehmerinnennetzwerk Bad Homburg
REFRESH-INTERVAL;VALUE=DURATION:PT1H
X-Robots-Tag:noindex
X-PUBLISHED-TTL:PT1H
BEGIN:VTIMEZONE
TZID:UTC
BEGIN:STANDARD
TZOFFSETFROM:+0000
TZOFFSETTO:+0000
TZNAME:UTC
DTSTART:20220101T000000
END:STANDARD
END:VTIMEZONE
BEGIN:VEVENT
DTSTART;TZID=UTC:20230615T193000
DTEND;TZID=UTC:20230615T213000
DTSTAMP:20260420T124305
CREATED:20230111T204049Z
LAST-MODIFIED:20230117T194943Z
UID:898-1686857400-1686864600@www.unternehmerinnen-badhomburg.de
SUMMARY:Konflikte fair lösen - Hilfreiche Impulse für Beruf und Privatleben
DESCRIPTION:Öffentlicher Vortrag – Referentin: Sabine Säuberlich
URL:https://www.unternehmerinnen-badhomburg.de/event/wie-gelingen-faire-loesungen-bei-trennung-im-business-und-privatleben
ATTACH;FMTTYPE=image/jpeg:https://www.unternehmerinnen-badhomburg.de/wp-content/uploads/2023/01/arrow-2889040_960_720.jpg
END:VEVENT
END:VCALENDAR